BEGIN:VCALENDAR
VERSION:2.0
PRODID:-//Tukios.com/
BEGIN:VEVENT
UID:373abfe8-3178-469e-8745-e7c33a0bfd35@www.martin-funeral.com
DTSTAMP:20260421T190556Z
DTSTART:20260503T170000Z
DTEND:20260503T190000Z
SUMMARY:Celebration of Life
DESCRIPTION:
URL:https://www.martin-funeral.com/obituaries/arthur-hill-jr
LOCATION:The Pearl 4745 Southeast Desoto Avenue  Stuart FL 34997
GEO:27.1468572;-80.1961529
END:VEVENT
END:VCALENDAR