BEGIN:VCALENDAR
VERSION:2.0
PRODID:-//Tukios.com/
BEGIN:VEVENT
UID:58f133cf-b030-418c-920d-abc673b17179@www.martin-funeral.com
DTSTAMP:20260421T213346Z
DTSTART:20260425T193000Z
DTEND:20260425T210000Z
SUMMARY:Funeral Service
DESCRIPTION:
URL:https://www.martin-funeral.com/obituaries/ana-valentin
LOCATION:Martin Funeral Home Port St. Lucie Chapel 714 Southeast Port 
	Saint Lucie Boulevard  Port St. Lucie FL 34984
GEO:27.2718004;-80.3314723
END:VEVENT
END:VCALENDAR