BEGIN:VCALENDAR
VERSION:2.0
PRODID:-//Tukios.com/
BEGIN:VEVENT
UID:b73856c0-4468-4090-840e-f27702c8fc8f@www.martin-funeral.com
DTSTAMP:20260421T213339Z
DTSTART:20260425T180000Z
DTEND:20260425T193000Z
SUMMARY:Visitation
DESCRIPTION:
URL:https://www.martin-funeral.com/obituaries/ana-valentin
LOCATION:Martin Funeral Home Port St. Lucie Chapel 714 Southeast Port 
	Saint Lucie Boulevard  Port St. Lucie FL 34984
GEO:27.2718004;-80.3314723
END:VEVENT
END:VCALENDAR